BEGIN:VCALENDAR
VERSION:2.0
PRODID:-//Historic Granbury Merchants Association - ECPv6.8.2.1//NONSGML v1.0//EN
CALSCALE:GREGORIAN
METHOD:PUBLISH
X-WR-CALNAME:Historic Granbury Merchants Association
X-ORIGINAL-URL:https://granburysquare.com
X-WR-CALDESC:Events for Historic Granbury Merchants Association
REFRESH-INTERVAL;VALUE=DURATION:PT1H
X-Robots-Tag:noindex
X-PUBLISHED-TTL:PT1H
BEGIN:VTIMEZONE
TZID:UTC
BEGIN:STANDARD
TZOFFSETFROM:+0000
TZOFFSETTO:+0000
TZNAME:UTC
DTSTART:20230101T000000
END:STANDARD
TZID:America/Chicago
BEGIN:DAYLIGHT
TZOFFSETFROM:-0600
TZOFFSETTO:-0500
TZNAME:CDT
DTSTART:20240310T080000
END:DAYLIGHT
BEGIN:STANDARD
TZOFFSETFROM:-0500
TZOFFSETTO:-0600
TZNAME:CST
DTSTART:20241103T070000
END:STANDARD
END:VTIMEZONE
BEGIN:VEVENT
DTSTART;TZID=UTC:20240510T190000
DTEND;TZID=UTC:20240510T230000
DTSTAMP:20260425T231633
CREATED:20230201T002018Z
LAST-MODIFIED:20240430T221238Z
UID:10003015-1715367600-1715382000@granburysquare.com
SUMMARY:Music\, Massage and Merlot Karaoke Night at D'Vine Wine
DESCRIPTION:Music\, Massage & Merlot at D’Vine Wine featuring Karaoke\, $1/min chair massages and wine! Our Karaoke DJ will be Dakota Whitehead. Dakota keeps the party going so don’t miss this fast paced fun evening. Whether you are a singer\, dancer or observer we know you’ll have a great time. While you are here we hope enjoy a glass or two of our very own D’Vine Wine\, a frozen Wine-a-Rita or appetizer tray. Happens 2x monthly.  On the first Friday and the last Friday monthly. 7pm – 11pm. \nCheck out what’s happening during  https://granburysquare.com/granbury-after-dark/ \n 
URL:https://granburysquare.com/event/music-massage-and-merlot-karaoke-night-at-dvine-wine-5/2024-05-10/
LOCATION:D’Vine Wine\, 107 East Bridge Street
CATEGORIES:HGMA Events
ATTACH;FMTTYPE=image/jpeg:https://granburysquare.com/wp-content/uploads/2023/01/dvine-karaoke-1-1.jpg
END:VEVENT
BEGIN:VEVENT
DTSTART;TZID=America/Chicago:20240503T180000
DTEND;TZID=America/Chicago:20240503T200000
DTSTAMP:20260425T231633
CREATED:20240430T220448Z
LAST-MODIFIED:20240430T220448Z
UID:10003614-1714759200-1714766400@granburysquare.com
SUMMARY:OPEN MIC NIGHT AT D'VINE WINE
DESCRIPTION:Join us the first Friday of each month right on the square here in Granbury Texas for Open Mic Night at the friendliest and hottest hangout spot in town!! Open to any and all live musicians who want to perform and just enjoy the good wines and the good vibes!!  A free event! \n 
URL:https://granburysquare.com/event/open-mic-night-at-dvine-wine/2024-05-03/
LOCATION:D’Vine Wine\, 107 East Bridge Street
CATEGORIES:All,HGMA Events
ATTACH;FMTTYPE=image/jpeg:https://granburysquare.com/wp-content/uploads/2024/04/2Dvine.jpg
END:VEVENT
BEGIN:VEVENT
DTSTART;TZID=UTC:20240420T180000
DTEND;TZID=UTC:20240420T210000
DTSTAMP:20260425T231633
CREATED:20230201T034854Z
LAST-MODIFIED:20231110T004121Z
UID:10001499-1713636000-1713646800@granburysquare.com
SUMMARY:The Granbury Irish Music Session
DESCRIPTION:Transport yourself to an Irish Pub once a month as you listen to regional Irish Musicians as they come to ‘jam’ and allow us to enjoy their music.  We never know how many musicians will come or what instruments they play but it always works out. Relax in an informal setting where you can enjoy a glass of wine while you listen to authentic Irish music.  Be prepared for spontaneous singing dancing and even some shenanigans while you are here.
URL:https://granburysquare.com/event/the-granbury-irish-music-session-2/2024-04-20/
LOCATION:D’Vine Wine\, 107 East Bridge Street
CATEGORIES:HGMA Events
ATTACH;FMTTYPE=image/jpeg:https://granburysquare.com/wp-content/uploads/2023/01/website-event-size-granbury-isish-jam-session-granbury-irishmusic-session.jpg
END:VEVENT
BEGIN:VEVENT
DTSTART;TZID=UTC:20240412T190000
DTEND;TZID=UTC:20240412T230000
DTSTAMP:20260425T231633
CREATED:20230201T002018Z
LAST-MODIFIED:20240430T221238Z
UID:10003014-1712948400-1712962800@granburysquare.com
SUMMARY:Music\, Massage and Merlot Karaoke Night at D'Vine Wine
DESCRIPTION:Music\, Massage & Merlot at D’Vine Wine featuring Karaoke\, $1/min chair massages and wine! Our Karaoke DJ will be Dakota Whitehead. Dakota keeps the party going so don’t miss this fast paced fun evening. Whether you are a singer\, dancer or observer we know you’ll have a great time. While you are here we hope enjoy a glass or two of our very own D’Vine Wine\, a frozen Wine-a-Rita or appetizer tray. Happens 2x monthly.  On the first Friday and the last Friday monthly. 7pm – 11pm. \nCheck out what’s happening during  https://granburysquare.com/granbury-after-dark/ \n 
URL:https://granburysquare.com/event/music-massage-and-merlot-karaoke-night-at-dvine-wine-5/2024-04-12/
LOCATION:D’Vine Wine\, 107 East Bridge Street
CATEGORIES:HGMA Events
ATTACH;FMTTYPE=image/jpeg:https://granburysquare.com/wp-content/uploads/2023/01/dvine-karaoke-1-1.jpg
END:VEVENT
BEGIN:VEVENT
DTSTART;TZID=UTC:20240329T190000
DTEND;TZID=UTC:20240329T230000
DTSTAMP:20260425T231633
CREATED:20230201T002018Z
LAST-MODIFIED:20240430T221238Z
UID:10003013-1711738800-1711753200@granburysquare.com
SUMMARY:Music\, Massage and Merlot Karaoke Night at D'Vine Wine
DESCRIPTION:Music\, Massage & Merlot at D’Vine Wine featuring Karaoke\, $1/min chair massages and wine! Our Karaoke DJ will be Dakota Whitehead. Dakota keeps the party going so don’t miss this fast paced fun evening. Whether you are a singer\, dancer or observer we know you’ll have a great time. While you are here we hope enjoy a glass or two of our very own D’Vine Wine\, a frozen Wine-a-Rita or appetizer tray. Happens 2x monthly.  On the first Friday and the last Friday monthly. 7pm – 11pm. \nCheck out what’s happening during  https://granburysquare.com/granbury-after-dark/ \n 
URL:https://granburysquare.com/event/music-massage-and-merlot-karaoke-night-at-dvine-wine-5/2024-03-29/
LOCATION:D’Vine Wine\, 107 East Bridge Street
CATEGORIES:HGMA Events
ATTACH;FMTTYPE=image/jpeg:https://granburysquare.com/wp-content/uploads/2023/01/dvine-karaoke-1-1.jpg
END:VEVENT
BEGIN:VEVENT
DTSTART;TZID=UTC:20240316T180000
DTEND;TZID=UTC:20240316T210000
DTSTAMP:20260425T231633
CREATED:20230201T034854Z
LAST-MODIFIED:20231110T004121Z
UID:10001498-1710612000-1710622800@granburysquare.com
SUMMARY:The Granbury Irish Music Session
DESCRIPTION:Transport yourself to an Irish Pub once a month as you listen to regional Irish Musicians as they come to ‘jam’ and allow us to enjoy their music.  We never know how many musicians will come or what instruments they play but it always works out. Relax in an informal setting where you can enjoy a glass of wine while you listen to authentic Irish music.  Be prepared for spontaneous singing dancing and even some shenanigans while you are here.
URL:https://granburysquare.com/event/the-granbury-irish-music-session-2/2024-03-16/
LOCATION:D’Vine Wine\, 107 East Bridge Street
CATEGORIES:HGMA Events
ATTACH;FMTTYPE=image/jpeg:https://granburysquare.com/wp-content/uploads/2023/01/website-event-size-granbury-isish-jam-session-granbury-irishmusic-session.jpg
END:VEVENT
BEGIN:VEVENT
DTSTART;TZID=UTC:20240308T190000
DTEND;TZID=UTC:20240308T230000
DTSTAMP:20260425T231633
CREATED:20230201T002018Z
LAST-MODIFIED:20240430T221238Z
UID:10003012-1709924400-1709938800@granburysquare.com
SUMMARY:Music\, Massage and Merlot Karaoke Night at D'Vine Wine
DESCRIPTION:Music\, Massage & Merlot at D’Vine Wine featuring Karaoke\, $1/min chair massages and wine! Our Karaoke DJ will be Dakota Whitehead. Dakota keeps the party going so don’t miss this fast paced fun evening. Whether you are a singer\, dancer or observer we know you’ll have a great time. While you are here we hope enjoy a glass or two of our very own D’Vine Wine\, a frozen Wine-a-Rita or appetizer tray. Happens 2x monthly.  On the first Friday and the last Friday monthly. 7pm – 11pm. \nCheck out what’s happening during  https://granburysquare.com/granbury-after-dark/ \n 
URL:https://granburysquare.com/event/music-massage-and-merlot-karaoke-night-at-dvine-wine-5/2024-03-08/
LOCATION:D’Vine Wine\, 107 East Bridge Street
CATEGORIES:HGMA Events
ATTACH;FMTTYPE=image/jpeg:https://granburysquare.com/wp-content/uploads/2023/01/dvine-karaoke-1-1.jpg
END:VEVENT
BEGIN:VEVENT
DTSTART;TZID=UTC:20240223T190000
DTEND;TZID=UTC:20240223T230000
DTSTAMP:20260425T231633
CREATED:20230201T002018Z
LAST-MODIFIED:20240430T221238Z
UID:10003011-1708714800-1708729200@granburysquare.com
SUMMARY:Music\, Massage and Merlot Karaoke Night at D'Vine Wine
DESCRIPTION:Music\, Massage & Merlot at D’Vine Wine featuring Karaoke\, $1/min chair massages and wine! Our Karaoke DJ will be Dakota Whitehead. Dakota keeps the party going so don’t miss this fast paced fun evening. Whether you are a singer\, dancer or observer we know you’ll have a great time. While you are here we hope enjoy a glass or two of our very own D’Vine Wine\, a frozen Wine-a-Rita or appetizer tray. Happens 2x monthly.  On the first Friday and the last Friday monthly. 7pm – 11pm. \nCheck out what’s happening during  https://granburysquare.com/granbury-after-dark/ \n 
URL:https://granburysquare.com/event/music-massage-and-merlot-karaoke-night-at-dvine-wine-5/2024-02-23/
LOCATION:D’Vine Wine\, 107 East Bridge Street
CATEGORIES:HGMA Events
ATTACH;FMTTYPE=image/jpeg:https://granburysquare.com/wp-content/uploads/2023/01/dvine-karaoke-1-1.jpg
END:VEVENT
BEGIN:VEVENT
DTSTART;TZID=UTC:20240217T180000
DTEND;TZID=UTC:20240217T210000
DTSTAMP:20260425T231633
CREATED:20230201T034854Z
LAST-MODIFIED:20231110T004121Z
UID:10001497-1708192800-1708203600@granburysquare.com
SUMMARY:The Granbury Irish Music Session
DESCRIPTION:Transport yourself to an Irish Pub once a month as you listen to regional Irish Musicians as they come to ‘jam’ and allow us to enjoy their music.  We never know how many musicians will come or what instruments they play but it always works out. Relax in an informal setting where you can enjoy a glass of wine while you listen to authentic Irish music.  Be prepared for spontaneous singing dancing and even some shenanigans while you are here.
URL:https://granburysquare.com/event/the-granbury-irish-music-session-2/2024-02-17/
LOCATION:D’Vine Wine\, 107 East Bridge Street
CATEGORIES:HGMA Events
ATTACH;FMTTYPE=image/jpeg:https://granburysquare.com/wp-content/uploads/2023/01/website-event-size-granbury-isish-jam-session-granbury-irishmusic-session.jpg
END:VEVENT
BEGIN:VEVENT
DTSTART;TZID=UTC:20240120T180000
DTEND;TZID=UTC:20240120T210000
DTSTAMP:20260425T231633
CREATED:20230201T034854Z
LAST-MODIFIED:20231110T004121Z
UID:10001496-1705773600-1705784400@granburysquare.com
SUMMARY:The Granbury Irish Music Session
DESCRIPTION:Transport yourself to an Irish Pub once a month as you listen to regional Irish Musicians as they come to ‘jam’ and allow us to enjoy their music.  We never know how many musicians will come or what instruments they play but it always works out. Relax in an informal setting where you can enjoy a glass of wine while you listen to authentic Irish music.  Be prepared for spontaneous singing dancing and even some shenanigans while you are here.
URL:https://granburysquare.com/event/the-granbury-irish-music-session-2/2024-01-20/
LOCATION:D’Vine Wine\, 107 East Bridge Street
CATEGORIES:HGMA Events
ATTACH;FMTTYPE=image/jpeg:https://granburysquare.com/wp-content/uploads/2023/01/website-event-size-granbury-isish-jam-session-granbury-irishmusic-session.jpg
END:VEVENT
BEGIN:VEVENT
DTSTART;TZID=UTC:20231216T180000
DTEND;TZID=UTC:20231216T210000
DTSTAMP:20260425T231633
CREATED:20230201T034854Z
LAST-MODIFIED:20231110T004121Z
UID:10001495-1702749600-1702760400@granburysquare.com
SUMMARY:The Granbury Irish Music Session
DESCRIPTION:Transport yourself to an Irish Pub once a month as you listen to regional Irish Musicians as they come to ‘jam’ and allow us to enjoy their music.  We never know how many musicians will come or what instruments they play but it always works out. Relax in an informal setting where you can enjoy a glass of wine while you listen to authentic Irish music.  Be prepared for spontaneous singing dancing and even some shenanigans while you are here.
URL:https://granburysquare.com/event/the-granbury-irish-music-session-2/2023-12-16/
LOCATION:D’Vine Wine\, 107 East Bridge Street
CATEGORIES:HGMA Events
ATTACH;FMTTYPE=image/jpeg:https://granburysquare.com/wp-content/uploads/2023/01/website-event-size-granbury-isish-jam-session-granbury-irishmusic-session.jpg
END:VEVENT
BEGIN:VEVENT
DTSTART;TZID=UTC:20231118T180000
DTEND;TZID=UTC:20231118T210000
DTSTAMP:20260425T231633
CREATED:20230201T034854Z
LAST-MODIFIED:20231110T004121Z
UID:10001494-1700330400-1700341200@granburysquare.com
SUMMARY:The Granbury Irish Music Session
DESCRIPTION:Transport yourself to an Irish Pub once a month as you listen to regional Irish Musicians as they come to ‘jam’ and allow us to enjoy their music.  We never know how many musicians will come or what instruments they play but it always works out. Relax in an informal setting where you can enjoy a glass of wine while you listen to authentic Irish music.  Be prepared for spontaneous singing dancing and even some shenanigans while you are here.
URL:https://granburysquare.com/event/the-granbury-irish-music-session-2/2023-11-18/
LOCATION:D’Vine Wine\, 107 East Bridge Street
CATEGORIES:HGMA Events
ATTACH;FMTTYPE=image/jpeg:https://granburysquare.com/wp-content/uploads/2023/01/website-event-size-granbury-isish-jam-session-granbury-irishmusic-session.jpg
END:VEVENT
BEGIN:VEVENT
DTSTART;TZID=UTC:20231021T180000
DTEND;TZID=UTC:20231021T210000
DTSTAMP:20260425T231633
CREATED:20230201T034854Z
LAST-MODIFIED:20231110T004121Z
UID:10001493-1697911200-1697922000@granburysquare.com
SUMMARY:The Granbury Irish Music Session
DESCRIPTION:Transport yourself to an Irish Pub once a month as you listen to regional Irish Musicians as they come to ‘jam’ and allow us to enjoy their music.  We never know how many musicians will come or what instruments they play but it always works out. Relax in an informal setting where you can enjoy a glass of wine while you listen to authentic Irish music.  Be prepared for spontaneous singing dancing and even some shenanigans while you are here.
URL:https://granburysquare.com/event/the-granbury-irish-music-session-2/2023-10-21/
LOCATION:D’Vine Wine\, 107 East Bridge Street
CATEGORIES:HGMA Events
ATTACH;FMTTYPE=image/jpeg:https://granburysquare.com/wp-content/uploads/2023/01/website-event-size-granbury-isish-jam-session-granbury-irishmusic-session.jpg
END:VEVENT
BEGIN:VEVENT
DTSTART;TZID=UTC:20230916T180000
DTEND;TZID=UTC:20230916T210000
DTSTAMP:20260425T231633
CREATED:20230201T034854Z
LAST-MODIFIED:20231110T004121Z
UID:10001492-1694887200-1694898000@granburysquare.com
SUMMARY:The Granbury Irish Music Session
DESCRIPTION:Transport yourself to an Irish Pub once a month as you listen to regional Irish Musicians as they come to ‘jam’ and allow us to enjoy their music.  We never know how many musicians will come or what instruments they play but it always works out. Relax in an informal setting where you can enjoy a glass of wine while you listen to authentic Irish music.  Be prepared for spontaneous singing dancing and even some shenanigans while you are here.
URL:https://granburysquare.com/event/the-granbury-irish-music-session-2/2023-09-16/
LOCATION:D’Vine Wine\, 107 East Bridge Street
CATEGORIES:HGMA Events
ATTACH;FMTTYPE=image/jpeg:https://granburysquare.com/wp-content/uploads/2023/01/website-event-size-granbury-isish-jam-session-granbury-irishmusic-session.jpg
END:VEVENT
BEGIN:VEVENT
DTSTART;TZID=UTC:20230819T180000
DTEND;TZID=UTC:20230819T210000
DTSTAMP:20260425T231633
CREATED:20230201T034854Z
LAST-MODIFIED:20231110T004121Z
UID:10001491-1692468000-1692478800@granburysquare.com
SUMMARY:The Granbury Irish Music Session
DESCRIPTION:Transport yourself to an Irish Pub once a month as you listen to regional Irish Musicians as they come to ‘jam’ and allow us to enjoy their music.  We never know how many musicians will come or what instruments they play but it always works out. Relax in an informal setting where you can enjoy a glass of wine while you listen to authentic Irish music.  Be prepared for spontaneous singing dancing and even some shenanigans while you are here.
URL:https://granburysquare.com/event/the-granbury-irish-music-session-2/2023-08-19/
LOCATION:D’Vine Wine\, 107 East Bridge Street
CATEGORIES:HGMA Events
ATTACH;FMTTYPE=image/jpeg:https://granburysquare.com/wp-content/uploads/2023/01/website-event-size-granbury-isish-jam-session-granbury-irishmusic-session.jpg
END:VEVENT
BEGIN:VEVENT
DTSTART;TZID=UTC:20230715T180000
DTEND;TZID=UTC:20230715T210000
DTSTAMP:20260425T231633
CREATED:20230201T034854Z
LAST-MODIFIED:20231110T004121Z
UID:10001490-1689444000-1689454800@granburysquare.com
SUMMARY:The Granbury Irish Music Session
DESCRIPTION:Transport yourself to an Irish Pub once a month as you listen to regional Irish Musicians as they come to ‘jam’ and allow us to enjoy their music.  We never know how many musicians will come or what instruments they play but it always works out. Relax in an informal setting where you can enjoy a glass of wine while you listen to authentic Irish music.  Be prepared for spontaneous singing dancing and even some shenanigans while you are here.
URL:https://granburysquare.com/event/the-granbury-irish-music-session-2/2023-07-15/
LOCATION:D’Vine Wine\, 107 East Bridge Street
CATEGORIES:HGMA Events
ATTACH;FMTTYPE=image/jpeg:https://granburysquare.com/wp-content/uploads/2023/01/website-event-size-granbury-isish-jam-session-granbury-irishmusic-session.jpg
END:VEVENT
BEGIN:VEVENT
DTSTART;TZID=UTC:20230617T180000
DTEND;TZID=UTC:20230617T210000
DTSTAMP:20260425T231633
CREATED:20230201T034854Z
LAST-MODIFIED:20231110T004121Z
UID:10001489-1687024800-1687035600@granburysquare.com
SUMMARY:The Granbury Irish Music Session
DESCRIPTION:Transport yourself to an Irish Pub once a month as you listen to regional Irish Musicians as they come to ‘jam’ and allow us to enjoy their music.  We never know how many musicians will come or what instruments they play but it always works out. Relax in an informal setting where you can enjoy a glass of wine while you listen to authentic Irish music.  Be prepared for spontaneous singing dancing and even some shenanigans while you are here.
URL:https://granburysquare.com/event/the-granbury-irish-music-session-2/2023-06-17/
LOCATION:D’Vine Wine\, 107 East Bridge Street
CATEGORIES:HGMA Events
ATTACH;FMTTYPE=image/jpeg:https://granburysquare.com/wp-content/uploads/2023/01/website-event-size-granbury-isish-jam-session-granbury-irishmusic-session.jpg
END:VEVENT
BEGIN:VEVENT
DTSTART;TZID=UTC:20230520T180000
DTEND;TZID=UTC:20230520T210000
DTSTAMP:20260425T231633
CREATED:20230201T034854Z
LAST-MODIFIED:20231110T004121Z
UID:10001488-1684605600-1684616400@granburysquare.com
SUMMARY:The Granbury Irish Music Session
DESCRIPTION:Transport yourself to an Irish Pub once a month as you listen to regional Irish Musicians as they come to ‘jam’ and allow us to enjoy their music.  We never know how many musicians will come or what instruments they play but it always works out. Relax in an informal setting where you can enjoy a glass of wine while you listen to authentic Irish music.  Be prepared for spontaneous singing dancing and even some shenanigans while you are here.
URL:https://granburysquare.com/event/the-granbury-irish-music-session-2/2023-05-20/
LOCATION:D’Vine Wine\, 107 East Bridge Street
CATEGORIES:HGMA Events
ATTACH;FMTTYPE=image/jpeg:https://granburysquare.com/wp-content/uploads/2023/01/website-event-size-granbury-isish-jam-session-granbury-irishmusic-session.jpg
END:VEVENT
BEGIN:VEVENT
DTSTART;TZID=UTC:20230415T180000
DTEND;TZID=UTC:20230415T210000
DTSTAMP:20260425T231633
CREATED:20230201T034854Z
LAST-MODIFIED:20231110T004121Z
UID:10001487-1681581600-1681592400@granburysquare.com
SUMMARY:The Granbury Irish Music Session
DESCRIPTION:Transport yourself to an Irish Pub once a month as you listen to regional Irish Musicians as they come to ‘jam’ and allow us to enjoy their music.  We never know how many musicians will come or what instruments they play but it always works out. Relax in an informal setting where you can enjoy a glass of wine while you listen to authentic Irish music.  Be prepared for spontaneous singing dancing and even some shenanigans while you are here.
URL:https://granburysquare.com/event/the-granbury-irish-music-session-2/2023-04-15/
LOCATION:D’Vine Wine\, 107 East Bridge Street
CATEGORIES:HGMA Events
ATTACH;FMTTYPE=image/jpeg:https://granburysquare.com/wp-content/uploads/2023/01/website-event-size-granbury-isish-jam-session-granbury-irishmusic-session.jpg
END:VEVENT
BEGIN:VEVENT
DTSTART;TZID=UTC:20230414T190000
DTEND;TZID=UTC:20230414T230000
DTSTAMP:20260425T231633
CREATED:20230201T001737Z
LAST-MODIFIED:20230401T225437Z
UID:10000256-1681498800-1681513200@granburysquare.com
SUMMARY:Music\, Massage and Merlot Karaoke Night at D'Vine Wine
DESCRIPTION:Music\, Massage & Merlot at D’Vine Wine featuring Karaoke\, $1/min chair massages and wine! Our Karaoke DJ will be Dakota Whitehead. Dakota keeps the party going so don’t miss this fast paced fun evening. Whether you are a singer\, dancer or observer we know you’ll have a great time. While you are here we hope enjoy a glass or two of our very own D’Vine Wine\, a frozen Wine-a-Rita or appetizer tray. Happens 2x monthly.  On the first Friday and the last Friday monthly. 7pm – 11pm.
URL:https://granburysquare.com/event/music-massage-and-merlot-karaoke-night-at-dvine-wine-4/
LOCATION:D’Vine Wine\, 107 East Bridge Street
CATEGORIES:HGMA Events,Special Events
ATTACH;FMTTYPE=image/jpeg:https://granburysquare.com/wp-content/uploads/2023/01/dvine-karaoke-1.jpg
END:VEVENT
BEGIN:VEVENT
DTSTART;TZID=UTC:20230318T180000
DTEND;TZID=UTC:20230318T210000
DTSTAMP:20260425T231633
CREATED:20230201T034854Z
LAST-MODIFIED:20231110T004121Z
UID:10001486-1679162400-1679173200@granburysquare.com
SUMMARY:The Granbury Irish Music Session
DESCRIPTION:Transport yourself to an Irish Pub once a month as you listen to regional Irish Musicians as they come to ‘jam’ and allow us to enjoy their music.  We never know how many musicians will come or what instruments they play but it always works out. Relax in an informal setting where you can enjoy a glass of wine while you listen to authentic Irish music.  Be prepared for spontaneous singing dancing and even some shenanigans while you are here.
URL:https://granburysquare.com/event/the-granbury-irish-music-session-2/2023-03-18/
LOCATION:D’Vine Wine\, 107 East Bridge Street
CATEGORIES:HGMA Events
ATTACH;FMTTYPE=image/jpeg:https://granburysquare.com/wp-content/uploads/2023/01/website-event-size-granbury-isish-jam-session-granbury-irishmusic-session.jpg
END:VEVENT
BEGIN:VEVENT
DTSTART;TZID=UTC:20230218T180000
DTEND;TZID=UTC:20230218T210000
DTSTAMP:20260425T231633
CREATED:20230201T034854Z
LAST-MODIFIED:20231110T004121Z
UID:10001427-1676743200-1676754000@granburysquare.com
SUMMARY:The Granbury Irish Music Session
DESCRIPTION:Transport yourself to an Irish Pub once a month as you listen to regional Irish Musicians as they come to ‘jam’ and allow us to enjoy their music.  We never know how many musicians will come or what instruments they play but it always works out. Relax in an informal setting where you can enjoy a glass of wine while you listen to authentic Irish music.  Be prepared for spontaneous singing dancing and even some shenanigans while you are here.
URL:https://granburysquare.com/event/the-granbury-irish-music-session-2/2023-02-18/
LOCATION:D’Vine Wine\, 107 East Bridge Street
CATEGORIES:HGMA Events
ATTACH;FMTTYPE=image/jpeg:https://granburysquare.com/wp-content/uploads/2023/01/website-event-size-granbury-isish-jam-session-granbury-irishmusic-session.jpg
END:VEVENT
END:VCALENDAR