BEGIN:VCALENDAR
VERSION:2.0
PRODID:-//Historic Granbury Merchants Association - ECPv6.8.2.1//NONSGML v1.0//EN
CALSCALE:GREGORIAN
METHOD:PUBLISH
X-ORIGINAL-URL:https://granburysquare.com
X-WR-CALDESC:Events for Historic Granbury Merchants Association
REFRESH-INTERVAL;VALUE=DURATION:PT1H
X-Robots-Tag:noindex
X-PUBLISHED-TTL:PT1H
BEGIN:VTIMEZONE
TZID:America/Chicago
BEGIN:DAYLIGHT
TZOFFSETFROM:-0600
TZOFFSETTO:-0500
TZNAME:CDT
DTSTART:20260308T080000
END:DAYLIGHT
BEGIN:STANDARD
TZOFFSETFROM:-0500
TZOFFSETTO:-0600
TZNAME:CST
DTSTART:20261101T070000
END:STANDARD
BEGIN:DAYLIGHT
TZOFFSETFROM:-0600
TZOFFSETTO:-0500
TZNAME:CDT
DTSTART:20270314T080000
END:DAYLIGHT
BEGIN:STANDARD
TZOFFSETFROM:-0500
TZOFFSETTO:-0600
TZNAME:CST
DTSTART:20271107T070000
END:STANDARD
BEGIN:DAYLIGHT
TZOFFSETFROM:-0600
TZOFFSETTO:-0500
TZNAME:CDT
DTSTART:20280312T080000
END:DAYLIGHT
BEGIN:STANDARD
TZOFFSETFROM:-0500
TZOFFSETTO:-0600
TZNAME:CST
DTSTART:20281105T070000
END:STANDARD
TZID:UTC
BEGIN:STANDARD
TZOFFSETFROM:+0000
TZOFFSETTO:+0000
TZNAME:UTC
DTSTART:20260101T000000
END:STANDARD
END:VTIMEZONE
BEGIN:VEVENT
DTSTART;TZID=America/Chicago:20261106T180000
DTEND;TZID=America/Chicago:20261106T200000
DTSTAMP:20260422T232735
CREATED:20240430T220448Z
LAST-MODIFIED:20240430T220448Z
UID:10003644-1793988000-1793995200@granburysquare.com
SUMMARY:OPEN MIC NIGHT AT D'VINE WINE
DESCRIPTION:Join us the first Friday of each month right on the square here in Granbury Texas for Open Mic Night at the friendliest and hottest hangout spot in town!! Open to any and all live musicians who want to perform and just enjoy the good wines and the good vibes!!  A free event! \n 
URL:https://granburysquare.com/event/open-mic-night-at-dvine-wine/2026-11-06/
LOCATION:D’Vine Wine\, 107 East Bridge Street
CATEGORIES:All,HGMA Events
ATTACH;FMTTYPE=image/jpeg:https://granburysquare.com/wp-content/uploads/2024/04/2Dvine.jpg
END:VEVENT
BEGIN:VEVENT
DTSTART;TZID=UTC:20261121T180000
DTEND;TZID=UTC:20261121T210000
DTSTAMP:20260422T232735
CREATED:20230201T034854Z
LAST-MODIFIED:20231110T004121Z
UID:10001530-1795284000-1795294800@granburysquare.com
SUMMARY:The Granbury Irish Music Session
DESCRIPTION:Transport yourself to an Irish Pub once a month as you listen to regional Irish Musicians as they come to ‘jam’ and allow us to enjoy their music.  We never know how many musicians will come or what instruments they play but it always works out. Relax in an informal setting where you can enjoy a glass of wine while you listen to authentic Irish music.  Be prepared for spontaneous singing dancing and even some shenanigans while you are here.
URL:https://granburysquare.com/event/the-granbury-irish-music-session-2/2026-11-21/
LOCATION:D’Vine Wine\, 107 East Bridge Street
CATEGORIES:HGMA Events
ATTACH;FMTTYPE=image/jpeg:https://granburysquare.com/wp-content/uploads/2023/01/website-event-size-granbury-isish-jam-session-granbury-irishmusic-session.jpg
END:VEVENT
BEGIN:VEVENT
DTSTART;TZID=America/Chicago:20261204T180000
DTEND;TZID=America/Chicago:20261204T200000
DTSTAMP:20260422T232735
CREATED:20240430T220448Z
LAST-MODIFIED:20240430T220448Z
UID:10003645-1796407200-1796414400@granburysquare.com
SUMMARY:OPEN MIC NIGHT AT D'VINE WINE
DESCRIPTION:Join us the first Friday of each month right on the square here in Granbury Texas for Open Mic Night at the friendliest and hottest hangout spot in town!! Open to any and all live musicians who want to perform and just enjoy the good wines and the good vibes!!  A free event! \n 
URL:https://granburysquare.com/event/open-mic-night-at-dvine-wine/2026-12-04/
LOCATION:D’Vine Wine\, 107 East Bridge Street
CATEGORIES:All,HGMA Events
ATTACH;FMTTYPE=image/jpeg:https://granburysquare.com/wp-content/uploads/2024/04/2Dvine.jpg
END:VEVENT
BEGIN:VEVENT
DTSTART;TZID=UTC:20261219T180000
DTEND;TZID=UTC:20261219T210000
DTSTAMP:20260422T232735
CREATED:20230201T034854Z
LAST-MODIFIED:20231110T004121Z
UID:10001531-1797703200-1797714000@granburysquare.com
SUMMARY:The Granbury Irish Music Session
DESCRIPTION:Transport yourself to an Irish Pub once a month as you listen to regional Irish Musicians as they come to ‘jam’ and allow us to enjoy their music.  We never know how many musicians will come or what instruments they play but it always works out. Relax in an informal setting where you can enjoy a glass of wine while you listen to authentic Irish music.  Be prepared for spontaneous singing dancing and even some shenanigans while you are here.
URL:https://granburysquare.com/event/the-granbury-irish-music-session-2/2026-12-19/
LOCATION:D’Vine Wine\, 107 East Bridge Street
CATEGORIES:HGMA Events
ATTACH;FMTTYPE=image/jpeg:https://granburysquare.com/wp-content/uploads/2023/01/website-event-size-granbury-isish-jam-session-granbury-irishmusic-session.jpg
END:VEVENT
BEGIN:VEVENT
DTSTART;TZID=America/Chicago:20270101T180000
DTEND;TZID=America/Chicago:20270101T200000
DTSTAMP:20260422T232735
CREATED:20240430T220448Z
LAST-MODIFIED:20240430T220448Z
UID:10003646-1798826400-1798833600@granburysquare.com
SUMMARY:OPEN MIC NIGHT AT D'VINE WINE
DESCRIPTION:Join us the first Friday of each month right on the square here in Granbury Texas for Open Mic Night at the friendliest and hottest hangout spot in town!! Open to any and all live musicians who want to perform and just enjoy the good wines and the good vibes!!  A free event! \n 
URL:https://granburysquare.com/event/open-mic-night-at-dvine-wine/2027-01-01/
LOCATION:D’Vine Wine\, 107 East Bridge Street
CATEGORIES:All,HGMA Events
ATTACH;FMTTYPE=image/jpeg:https://granburysquare.com/wp-content/uploads/2024/04/2Dvine.jpg
END:VEVENT
BEGIN:VEVENT
DTSTART;TZID=UTC:20270116T180000
DTEND;TZID=UTC:20270116T210000
DTSTAMP:20260422T232735
CREATED:20230201T034854Z
LAST-MODIFIED:20231110T004121Z
UID:10001532-1800122400-1800133200@granburysquare.com
SUMMARY:The Granbury Irish Music Session
DESCRIPTION:Transport yourself to an Irish Pub once a month as you listen to regional Irish Musicians as they come to ‘jam’ and allow us to enjoy their music.  We never know how many musicians will come or what instruments they play but it always works out. Relax in an informal setting where you can enjoy a glass of wine while you listen to authentic Irish music.  Be prepared for spontaneous singing dancing and even some shenanigans while you are here.
URL:https://granburysquare.com/event/the-granbury-irish-music-session-2/2027-01-16/
LOCATION:D’Vine Wine\, 107 East Bridge Street
CATEGORIES:HGMA Events
ATTACH;FMTTYPE=image/jpeg:https://granburysquare.com/wp-content/uploads/2023/01/website-event-size-granbury-isish-jam-session-granbury-irishmusic-session.jpg
END:VEVENT
BEGIN:VEVENT
DTSTART;TZID=America/Chicago:20270205T180000
DTEND;TZID=America/Chicago:20270205T200000
DTSTAMP:20260422T232735
CREATED:20240430T220448Z
LAST-MODIFIED:20240430T220448Z
UID:10003647-1801850400-1801857600@granburysquare.com
SUMMARY:OPEN MIC NIGHT AT D'VINE WINE
DESCRIPTION:Join us the first Friday of each month right on the square here in Granbury Texas for Open Mic Night at the friendliest and hottest hangout spot in town!! Open to any and all live musicians who want to perform and just enjoy the good wines and the good vibes!!  A free event! \n 
URL:https://granburysquare.com/event/open-mic-night-at-dvine-wine/2027-02-05/
LOCATION:D’Vine Wine\, 107 East Bridge Street
CATEGORIES:All,HGMA Events
ATTACH;FMTTYPE=image/jpeg:https://granburysquare.com/wp-content/uploads/2024/04/2Dvine.jpg
END:VEVENT
BEGIN:VEVENT
DTSTART;TZID=UTC:20270220T180000
DTEND;TZID=UTC:20270220T210000
DTSTAMP:20260422T232735
CREATED:20230201T034854Z
LAST-MODIFIED:20231110T004121Z
UID:10001533-1803146400-1803157200@granburysquare.com
SUMMARY:The Granbury Irish Music Session
DESCRIPTION:Transport yourself to an Irish Pub once a month as you listen to regional Irish Musicians as they come to ‘jam’ and allow us to enjoy their music.  We never know how many musicians will come or what instruments they play but it always works out. Relax in an informal setting where you can enjoy a glass of wine while you listen to authentic Irish music.  Be prepared for spontaneous singing dancing and even some shenanigans while you are here.
URL:https://granburysquare.com/event/the-granbury-irish-music-session-2/2027-02-20/
LOCATION:D’Vine Wine\, 107 East Bridge Street
CATEGORIES:HGMA Events
ATTACH;FMTTYPE=image/jpeg:https://granburysquare.com/wp-content/uploads/2023/01/website-event-size-granbury-isish-jam-session-granbury-irishmusic-session.jpg
END:VEVENT
BEGIN:VEVENT
DTSTART;TZID=America/Chicago:20270305T180000
DTEND;TZID=America/Chicago:20270305T200000
DTSTAMP:20260422T232735
CREATED:20240430T220448Z
LAST-MODIFIED:20240430T220448Z
UID:10003648-1804269600-1804276800@granburysquare.com
SUMMARY:OPEN MIC NIGHT AT D'VINE WINE
DESCRIPTION:Join us the first Friday of each month right on the square here in Granbury Texas for Open Mic Night at the friendliest and hottest hangout spot in town!! Open to any and all live musicians who want to perform and just enjoy the good wines and the good vibes!!  A free event! \n 
URL:https://granburysquare.com/event/open-mic-night-at-dvine-wine/2027-03-05/
LOCATION:D’Vine Wine\, 107 East Bridge Street
CATEGORIES:All,HGMA Events
ATTACH;FMTTYPE=image/jpeg:https://granburysquare.com/wp-content/uploads/2024/04/2Dvine.jpg
END:VEVENT
BEGIN:VEVENT
DTSTART;TZID=UTC:20270320T180000
DTEND;TZID=UTC:20270320T210000
DTSTAMP:20260422T232735
CREATED:20230201T034854Z
LAST-MODIFIED:20231110T004121Z
UID:10001534-1805565600-1805576400@granburysquare.com
SUMMARY:The Granbury Irish Music Session
DESCRIPTION:Transport yourself to an Irish Pub once a month as you listen to regional Irish Musicians as they come to ‘jam’ and allow us to enjoy their music.  We never know how many musicians will come or what instruments they play but it always works out. Relax in an informal setting where you can enjoy a glass of wine while you listen to authentic Irish music.  Be prepared for spontaneous singing dancing and even some shenanigans while you are here.
URL:https://granburysquare.com/event/the-granbury-irish-music-session-2/2027-03-20/
LOCATION:D’Vine Wine\, 107 East Bridge Street
CATEGORIES:HGMA Events
ATTACH;FMTTYPE=image/jpeg:https://granburysquare.com/wp-content/uploads/2023/01/website-event-size-granbury-isish-jam-session-granbury-irishmusic-session.jpg
END:VEVENT
BEGIN:VEVENT
DTSTART;TZID=America/Chicago:20270402T180000
DTEND;TZID=America/Chicago:20270402T200000
DTSTAMP:20260422T232735
CREATED:20240430T220448Z
LAST-MODIFIED:20240430T220448Z
UID:10003649-1806688800-1806696000@granburysquare.com
SUMMARY:OPEN MIC NIGHT AT D'VINE WINE
DESCRIPTION:Join us the first Friday of each month right on the square here in Granbury Texas for Open Mic Night at the friendliest and hottest hangout spot in town!! Open to any and all live musicians who want to perform and just enjoy the good wines and the good vibes!!  A free event! \n 
URL:https://granburysquare.com/event/open-mic-night-at-dvine-wine/2027-04-02/
LOCATION:D’Vine Wine\, 107 East Bridge Street
CATEGORIES:All,HGMA Events
ATTACH;FMTTYPE=image/jpeg:https://granburysquare.com/wp-content/uploads/2024/04/2Dvine.jpg
END:VEVENT
BEGIN:VEVENT
DTSTART;TZID=UTC:20270417T180000
DTEND;TZID=UTC:20270417T210000
DTSTAMP:20260422T232735
CREATED:20230201T034854Z
LAST-MODIFIED:20231110T004121Z
UID:10001535-1807984800-1807995600@granburysquare.com
SUMMARY:The Granbury Irish Music Session
DESCRIPTION:Transport yourself to an Irish Pub once a month as you listen to regional Irish Musicians as they come to ‘jam’ and allow us to enjoy their music.  We never know how many musicians will come or what instruments they play but it always works out. Relax in an informal setting where you can enjoy a glass of wine while you listen to authentic Irish music.  Be prepared for spontaneous singing dancing and even some shenanigans while you are here.
URL:https://granburysquare.com/event/the-granbury-irish-music-session-2/2027-04-17/
LOCATION:D’Vine Wine\, 107 East Bridge Street
CATEGORIES:HGMA Events
ATTACH;FMTTYPE=image/jpeg:https://granburysquare.com/wp-content/uploads/2023/01/website-event-size-granbury-isish-jam-session-granbury-irishmusic-session.jpg
END:VEVENT
BEGIN:VEVENT
DTSTART;TZID=America/Chicago:20270507T180000
DTEND;TZID=America/Chicago:20270507T200000
DTSTAMP:20260422T232735
CREATED:20240430T220448Z
LAST-MODIFIED:20240430T220448Z
UID:10003650-1809712800-1809720000@granburysquare.com
SUMMARY:OPEN MIC NIGHT AT D'VINE WINE
DESCRIPTION:Join us the first Friday of each month right on the square here in Granbury Texas for Open Mic Night at the friendliest and hottest hangout spot in town!! Open to any and all live musicians who want to perform and just enjoy the good wines and the good vibes!!  A free event! \n 
URL:https://granburysquare.com/event/open-mic-night-at-dvine-wine/2027-05-07/
LOCATION:D’Vine Wine\, 107 East Bridge Street
CATEGORIES:All,HGMA Events
ATTACH;FMTTYPE=image/jpeg:https://granburysquare.com/wp-content/uploads/2024/04/2Dvine.jpg
END:VEVENT
BEGIN:VEVENT
DTSTART;TZID=UTC:20270515T180000
DTEND;TZID=UTC:20270515T210000
DTSTAMP:20260422T232735
CREATED:20230201T034854Z
LAST-MODIFIED:20231110T004121Z
UID:10001536-1810404000-1810414800@granburysquare.com
SUMMARY:The Granbury Irish Music Session
DESCRIPTION:Transport yourself to an Irish Pub once a month as you listen to regional Irish Musicians as they come to ‘jam’ and allow us to enjoy their music.  We never know how many musicians will come or what instruments they play but it always works out. Relax in an informal setting where you can enjoy a glass of wine while you listen to authentic Irish music.  Be prepared for spontaneous singing dancing and even some shenanigans while you are here.
URL:https://granburysquare.com/event/the-granbury-irish-music-session-2/2027-05-15/
LOCATION:D’Vine Wine\, 107 East Bridge Street
CATEGORIES:HGMA Events
ATTACH;FMTTYPE=image/jpeg:https://granburysquare.com/wp-content/uploads/2023/01/website-event-size-granbury-isish-jam-session-granbury-irishmusic-session.jpg
END:VEVENT
BEGIN:VEVENT
DTSTART;TZID=America/Chicago:20270604T180000
DTEND;TZID=America/Chicago:20270604T200000
DTSTAMP:20260422T232735
CREATED:20240430T220448Z
LAST-MODIFIED:20240430T220448Z
UID:10003651-1812132000-1812139200@granburysquare.com
SUMMARY:OPEN MIC NIGHT AT D'VINE WINE
DESCRIPTION:Join us the first Friday of each month right on the square here in Granbury Texas for Open Mic Night at the friendliest and hottest hangout spot in town!! Open to any and all live musicians who want to perform and just enjoy the good wines and the good vibes!!  A free event! \n 
URL:https://granburysquare.com/event/open-mic-night-at-dvine-wine/2027-06-04/
LOCATION:D’Vine Wine\, 107 East Bridge Street
CATEGORIES:All,HGMA Events
ATTACH;FMTTYPE=image/jpeg:https://granburysquare.com/wp-content/uploads/2024/04/2Dvine.jpg
END:VEVENT
BEGIN:VEVENT
DTSTART;TZID=UTC:20270619T180000
DTEND;TZID=UTC:20270619T210000
DTSTAMP:20260422T232735
CREATED:20230201T034854Z
LAST-MODIFIED:20231110T004121Z
UID:10001537-1813428000-1813438800@granburysquare.com
SUMMARY:The Granbury Irish Music Session
DESCRIPTION:Transport yourself to an Irish Pub once a month as you listen to regional Irish Musicians as they come to ‘jam’ and allow us to enjoy their music.  We never know how many musicians will come or what instruments they play but it always works out. Relax in an informal setting where you can enjoy a glass of wine while you listen to authentic Irish music.  Be prepared for spontaneous singing dancing and even some shenanigans while you are here.
URL:https://granburysquare.com/event/the-granbury-irish-music-session-2/2027-06-19/
LOCATION:D’Vine Wine\, 107 East Bridge Street
CATEGORIES:HGMA Events
ATTACH;FMTTYPE=image/jpeg:https://granburysquare.com/wp-content/uploads/2023/01/website-event-size-granbury-isish-jam-session-granbury-irishmusic-session.jpg
END:VEVENT
BEGIN:VEVENT
DTSTART;TZID=America/Chicago:20270702T180000
DTEND;TZID=America/Chicago:20270702T200000
DTSTAMP:20260422T232735
CREATED:20240430T220448Z
LAST-MODIFIED:20240430T220448Z
UID:10003652-1814551200-1814558400@granburysquare.com
SUMMARY:OPEN MIC NIGHT AT D'VINE WINE
DESCRIPTION:Join us the first Friday of each month right on the square here in Granbury Texas for Open Mic Night at the friendliest and hottest hangout spot in town!! Open to any and all live musicians who want to perform and just enjoy the good wines and the good vibes!!  A free event! \n 
URL:https://granburysquare.com/event/open-mic-night-at-dvine-wine/2027-07-02/
LOCATION:D’Vine Wine\, 107 East Bridge Street
CATEGORIES:All,HGMA Events
ATTACH;FMTTYPE=image/jpeg:https://granburysquare.com/wp-content/uploads/2024/04/2Dvine.jpg
END:VEVENT
BEGIN:VEVENT
DTSTART;TZID=UTC:20270717T180000
DTEND;TZID=UTC:20270717T210000
DTSTAMP:20260422T232735
CREATED:20230201T034854Z
LAST-MODIFIED:20231110T004121Z
UID:10001538-1815847200-1815858000@granburysquare.com
SUMMARY:The Granbury Irish Music Session
DESCRIPTION:Transport yourself to an Irish Pub once a month as you listen to regional Irish Musicians as they come to ‘jam’ and allow us to enjoy their music.  We never know how many musicians will come or what instruments they play but it always works out. Relax in an informal setting where you can enjoy a glass of wine while you listen to authentic Irish music.  Be prepared for spontaneous singing dancing and even some shenanigans while you are here.
URL:https://granburysquare.com/event/the-granbury-irish-music-session-2/2027-07-17/
LOCATION:D’Vine Wine\, 107 East Bridge Street
CATEGORIES:HGMA Events
ATTACH;FMTTYPE=image/jpeg:https://granburysquare.com/wp-content/uploads/2023/01/website-event-size-granbury-isish-jam-session-granbury-irishmusic-session.jpg
END:VEVENT
BEGIN:VEVENT
DTSTART;TZID=America/Chicago:20270806T180000
DTEND;TZID=America/Chicago:20270806T200000
DTSTAMP:20260422T232735
CREATED:20240430T220448Z
LAST-MODIFIED:20240430T220448Z
UID:10003653-1817575200-1817582400@granburysquare.com
SUMMARY:OPEN MIC NIGHT AT D'VINE WINE
DESCRIPTION:Join us the first Friday of each month right on the square here in Granbury Texas for Open Mic Night at the friendliest and hottest hangout spot in town!! Open to any and all live musicians who want to perform and just enjoy the good wines and the good vibes!!  A free event! \n 
URL:https://granburysquare.com/event/open-mic-night-at-dvine-wine/2027-08-06/
LOCATION:D’Vine Wine\, 107 East Bridge Street
CATEGORIES:All,HGMA Events
ATTACH;FMTTYPE=image/jpeg:https://granburysquare.com/wp-content/uploads/2024/04/2Dvine.jpg
END:VEVENT
BEGIN:VEVENT
DTSTART;TZID=UTC:20270821T180000
DTEND;TZID=UTC:20270821T210000
DTSTAMP:20260422T232735
CREATED:20230201T034854Z
LAST-MODIFIED:20231110T004121Z
UID:10001539-1818871200-1818882000@granburysquare.com
SUMMARY:The Granbury Irish Music Session
DESCRIPTION:Transport yourself to an Irish Pub once a month as you listen to regional Irish Musicians as they come to ‘jam’ and allow us to enjoy their music.  We never know how many musicians will come or what instruments they play but it always works out. Relax in an informal setting where you can enjoy a glass of wine while you listen to authentic Irish music.  Be prepared for spontaneous singing dancing and even some shenanigans while you are here.
URL:https://granburysquare.com/event/the-granbury-irish-music-session-2/2027-08-21/
LOCATION:D’Vine Wine\, 107 East Bridge Street
CATEGORIES:HGMA Events
ATTACH;FMTTYPE=image/jpeg:https://granburysquare.com/wp-content/uploads/2023/01/website-event-size-granbury-isish-jam-session-granbury-irishmusic-session.jpg
END:VEVENT
BEGIN:VEVENT
DTSTART;TZID=America/Chicago:20270903T180000
DTEND;TZID=America/Chicago:20270903T200000
DTSTAMP:20260422T232735
CREATED:20240430T220448Z
LAST-MODIFIED:20240430T220448Z
UID:10003654-1819994400-1820001600@granburysquare.com
SUMMARY:OPEN MIC NIGHT AT D'VINE WINE
DESCRIPTION:Join us the first Friday of each month right on the square here in Granbury Texas for Open Mic Night at the friendliest and hottest hangout spot in town!! Open to any and all live musicians who want to perform and just enjoy the good wines and the good vibes!!  A free event! \n 
URL:https://granburysquare.com/event/open-mic-night-at-dvine-wine/2027-09-03/
LOCATION:D’Vine Wine\, 107 East Bridge Street
CATEGORIES:All,HGMA Events
ATTACH;FMTTYPE=image/jpeg:https://granburysquare.com/wp-content/uploads/2024/04/2Dvine.jpg
END:VEVENT
BEGIN:VEVENT
DTSTART;TZID=UTC:20270918T180000
DTEND;TZID=UTC:20270918T210000
DTSTAMP:20260422T232735
CREATED:20230201T034854Z
LAST-MODIFIED:20231110T004121Z
UID:10001540-1821290400-1821301200@granburysquare.com
SUMMARY:The Granbury Irish Music Session
DESCRIPTION:Transport yourself to an Irish Pub once a month as you listen to regional Irish Musicians as they come to ‘jam’ and allow us to enjoy their music.  We never know how many musicians will come or what instruments they play but it always works out. Relax in an informal setting where you can enjoy a glass of wine while you listen to authentic Irish music.  Be prepared for spontaneous singing dancing and even some shenanigans while you are here.
URL:https://granburysquare.com/event/the-granbury-irish-music-session-2/2027-09-18/
LOCATION:D’Vine Wine\, 107 East Bridge Street
CATEGORIES:HGMA Events
ATTACH;FMTTYPE=image/jpeg:https://granburysquare.com/wp-content/uploads/2023/01/website-event-size-granbury-isish-jam-session-granbury-irishmusic-session.jpg
END:VEVENT
BEGIN:VEVENT
DTSTART;TZID=America/Chicago:20271001T180000
DTEND;TZID=America/Chicago:20271001T200000
DTSTAMP:20260422T232735
CREATED:20240430T220448Z
LAST-MODIFIED:20240430T220448Z
UID:10003655-1822413600-1822420800@granburysquare.com
SUMMARY:OPEN MIC NIGHT AT D'VINE WINE
DESCRIPTION:Join us the first Friday of each month right on the square here in Granbury Texas for Open Mic Night at the friendliest and hottest hangout spot in town!! Open to any and all live musicians who want to perform and just enjoy the good wines and the good vibes!!  A free event! \n 
URL:https://granburysquare.com/event/open-mic-night-at-dvine-wine/2027-10-01/
LOCATION:D’Vine Wine\, 107 East Bridge Street
CATEGORIES:All,HGMA Events
ATTACH;FMTTYPE=image/jpeg:https://granburysquare.com/wp-content/uploads/2024/04/2Dvine.jpg
END:VEVENT
BEGIN:VEVENT
DTSTART;TZID=UTC:20271016T180000
DTEND;TZID=UTC:20271016T210000
DTSTAMP:20260422T232735
CREATED:20230201T034854Z
LAST-MODIFIED:20231110T004121Z
UID:10001541-1823709600-1823720400@granburysquare.com
SUMMARY:The Granbury Irish Music Session
DESCRIPTION:Transport yourself to an Irish Pub once a month as you listen to regional Irish Musicians as they come to ‘jam’ and allow us to enjoy their music.  We never know how many musicians will come or what instruments they play but it always works out. Relax in an informal setting where you can enjoy a glass of wine while you listen to authentic Irish music.  Be prepared for spontaneous singing dancing and even some shenanigans while you are here.
URL:https://granburysquare.com/event/the-granbury-irish-music-session-2/2027-10-16/
LOCATION:D’Vine Wine\, 107 East Bridge Street
CATEGORIES:HGMA Events
ATTACH;FMTTYPE=image/jpeg:https://granburysquare.com/wp-content/uploads/2023/01/website-event-size-granbury-isish-jam-session-granbury-irishmusic-session.jpg
END:VEVENT
BEGIN:VEVENT
DTSTART;TZID=America/Chicago:20271105T180000
DTEND;TZID=America/Chicago:20271105T200000
DTSTAMP:20260422T232735
CREATED:20240430T220448Z
LAST-MODIFIED:20240430T220448Z
UID:10003656-1825437600-1825444800@granburysquare.com
SUMMARY:OPEN MIC NIGHT AT D'VINE WINE
DESCRIPTION:Join us the first Friday of each month right on the square here in Granbury Texas for Open Mic Night at the friendliest and hottest hangout spot in town!! Open to any and all live musicians who want to perform and just enjoy the good wines and the good vibes!!  A free event! \n 
URL:https://granburysquare.com/event/open-mic-night-at-dvine-wine/2027-11-05/
LOCATION:D’Vine Wine\, 107 East Bridge Street
CATEGORIES:All,HGMA Events
ATTACH;FMTTYPE=image/jpeg:https://granburysquare.com/wp-content/uploads/2024/04/2Dvine.jpg
END:VEVENT
BEGIN:VEVENT
DTSTART;TZID=UTC:20271120T180000
DTEND;TZID=UTC:20271120T210000
DTSTAMP:20260422T232735
CREATED:20230201T034854Z
LAST-MODIFIED:20231110T004121Z
UID:10001542-1826733600-1826744400@granburysquare.com
SUMMARY:The Granbury Irish Music Session
DESCRIPTION:Transport yourself to an Irish Pub once a month as you listen to regional Irish Musicians as they come to ‘jam’ and allow us to enjoy their music.  We never know how many musicians will come or what instruments they play but it always works out. Relax in an informal setting where you can enjoy a glass of wine while you listen to authentic Irish music.  Be prepared for spontaneous singing dancing and even some shenanigans while you are here.
URL:https://granburysquare.com/event/the-granbury-irish-music-session-2/2027-11-20/
LOCATION:D’Vine Wine\, 107 East Bridge Street
CATEGORIES:HGMA Events
ATTACH;FMTTYPE=image/jpeg:https://granburysquare.com/wp-content/uploads/2023/01/website-event-size-granbury-isish-jam-session-granbury-irishmusic-session.jpg
END:VEVENT
BEGIN:VEVENT
DTSTART;TZID=America/Chicago:20271203T180000
DTEND;TZID=America/Chicago:20271203T200000
DTSTAMP:20260422T232735
CREATED:20240430T220448Z
LAST-MODIFIED:20240430T220448Z
UID:10003657-1827856800-1827864000@granburysquare.com
SUMMARY:OPEN MIC NIGHT AT D'VINE WINE
DESCRIPTION:Join us the first Friday of each month right on the square here in Granbury Texas for Open Mic Night at the friendliest and hottest hangout spot in town!! Open to any and all live musicians who want to perform and just enjoy the good wines and the good vibes!!  A free event! \n 
URL:https://granburysquare.com/event/open-mic-night-at-dvine-wine/2027-12-03/
LOCATION:D’Vine Wine\, 107 East Bridge Street
CATEGORIES:All,HGMA Events
ATTACH;FMTTYPE=image/jpeg:https://granburysquare.com/wp-content/uploads/2024/04/2Dvine.jpg
END:VEVENT
BEGIN:VEVENT
DTSTART;TZID=UTC:20271218T180000
DTEND;TZID=UTC:20271218T210000
DTSTAMP:20260422T232735
CREATED:20230201T034854Z
LAST-MODIFIED:20231110T004121Z
UID:10001543-1829152800-1829163600@granburysquare.com
SUMMARY:The Granbury Irish Music Session
DESCRIPTION:Transport yourself to an Irish Pub once a month as you listen to regional Irish Musicians as they come to ‘jam’ and allow us to enjoy their music.  We never know how many musicians will come or what instruments they play but it always works out. Relax in an informal setting where you can enjoy a glass of wine while you listen to authentic Irish music.  Be prepared for spontaneous singing dancing and even some shenanigans while you are here.
URL:https://granburysquare.com/event/the-granbury-irish-music-session-2/2027-12-18/
LOCATION:D’Vine Wine\, 107 East Bridge Street
CATEGORIES:HGMA Events
ATTACH;FMTTYPE=image/jpeg:https://granburysquare.com/wp-content/uploads/2023/01/website-event-size-granbury-isish-jam-session-granbury-irishmusic-session.jpg
END:VEVENT
BEGIN:VEVENT
DTSTART;TZID=America/Chicago:20280107T180000
DTEND;TZID=America/Chicago:20280107T200000
DTSTAMP:20260422T232735
CREATED:20240430T220448Z
LAST-MODIFIED:20240430T220448Z
UID:10003658-1830880800-1830888000@granburysquare.com
SUMMARY:OPEN MIC NIGHT AT D'VINE WINE
DESCRIPTION:Join us the first Friday of each month right on the square here in Granbury Texas for Open Mic Night at the friendliest and hottest hangout spot in town!! Open to any and all live musicians who want to perform and just enjoy the good wines and the good vibes!!  A free event! \n 
URL:https://granburysquare.com/event/open-mic-night-at-dvine-wine/2028-01-07/
LOCATION:D’Vine Wine\, 107 East Bridge Street
CATEGORIES:All,HGMA Events
ATTACH;FMTTYPE=image/jpeg:https://granburysquare.com/wp-content/uploads/2024/04/2Dvine.jpg
END:VEVENT
BEGIN:VEVENT
DTSTART;TZID=UTC:20280115T180000
DTEND;TZID=UTC:20280115T210000
DTSTAMP:20260422T232735
CREATED:20230201T034854Z
LAST-MODIFIED:20231110T004121Z
UID:10001544-1831572000-1831582800@granburysquare.com
SUMMARY:The Granbury Irish Music Session
DESCRIPTION:Transport yourself to an Irish Pub once a month as you listen to regional Irish Musicians as they come to ‘jam’ and allow us to enjoy their music.  We never know how many musicians will come or what instruments they play but it always works out. Relax in an informal setting where you can enjoy a glass of wine while you listen to authentic Irish music.  Be prepared for spontaneous singing dancing and even some shenanigans while you are here.
URL:https://granburysquare.com/event/the-granbury-irish-music-session-2/2028-01-15/
LOCATION:D’Vine Wine\, 107 East Bridge Street
CATEGORIES:HGMA Events
ATTACH;FMTTYPE=image/jpeg:https://granburysquare.com/wp-content/uploads/2023/01/website-event-size-granbury-isish-jam-session-granbury-irishmusic-session.jpg
END:VEVENT
END:VCALENDAR